BEGIN:VCALENDAR
VERSION:2.0
PRODID:-//VOCAL DESIGN TECHNIQUE ® - ECPv6.15.20//NONSGML v1.0//EN
CALSCALE:GREGORIAN
METHOD:PUBLISH
X-ORIGINAL-URL:https://vocaldesigntechnique.es
X-WR-CALDESC:Eventos para VOCAL DESIGN TECHNIQUE ®
REFRESH-INTERVAL;VALUE=DURATION:PT1H
X-Robots-Tag:noindex
X-PUBLISHED-TTL:PT1H
BEGIN:VTIMEZONE
TZID:UTC
BEGIN:STANDARD
TZOFFSETFROM:+0000
TZOFFSETTO:+0000
TZNAME:UTC
DTSTART:20250101T000000
END:STANDARD
END:VTIMEZONE
BEGIN:VEVENT
DTSTART;VALUE=DATE:20260525
DTEND;VALUE=DATE:20260526
DTSTAMP:20260420T163529
CREATED:20260407T113512Z
LAST-MODIFIED:20260407T114245Z
UID:3428-1779667200-1779753599@vocaldesigntechnique.es
SUMMARY:Evaluación Cuatrimestre · Neurovocal Coach Nivel II · Grupo "Luciérnaga"
DESCRIPTION:
URL:https://vocaldesigntechnique.es/event/evaluacion-cuatrimestre-%c2%b7-neurovocal-coach-nivel-ii-%c2%b7-grupo-luciernaga
CATEGORIES:Eventos Generales
END:VEVENT
END:VCALENDAR