BEGIN:VCALENDAR
VERSION:2.0
PRODID:-//VOCAL DESIGN TECHNIQUE ® - ECPv6.15.20//NONSGML v1.0//EN
CALSCALE:GREGORIAN
METHOD:PUBLISH
X-ORIGINAL-URL:https://vocaldesigntechnique.es
X-WR-CALDESC:Eventos para VOCAL DESIGN TECHNIQUE ®
REFRESH-INTERVAL;VALUE=DURATION:PT1H
X-Robots-Tag:noindex
X-PUBLISHED-TTL:PT1H
BEGIN:VTIMEZONE
TZID:UTC
BEGIN:STANDARD
TZOFFSETFROM:+0000
TZOFFSETTO:+0000
TZNAME:UTC
DTSTART:20250101T000000
END:STANDARD
END:VTIMEZONE
BEGIN:VEVENT
DTSTART;VALUE=DATE:20260302
DTEND;VALUE=DATE:20260303
DTSTAMP:20260420T163702
CREATED:20260407T113351Z
LAST-MODIFIED:20260407T114257Z
UID:3426-1772409600-1772495999@vocaldesigntechnique.es
SUMMARY:Evaluación Semestral Vocal Coach VDT · Nivel I · Grupo "Slime"
DESCRIPTION:
URL:https://vocaldesigntechnique.es/event/evaluacion-semestral-vocal-coach-vdt-%c2%b7-nivel-i-%c2%b7-slime
CATEGORIES:Eventos Generales
END:VEVENT
BEGIN:VEVENT
DTSTART;VALUE=DATE:20260320
DTEND;VALUE=DATE:20260321
DTSTAMP:20260420T163702
CREATED:20260407T113619Z
LAST-MODIFIED:20260407T113619Z
UID:3430-1773964800-1774051199@vocaldesigntechnique.es
SUMMARY:Formación Neurodiversidad - Tips para educar en la diversidad
DESCRIPTION:
URL:https://vocaldesigntechnique.es/event/formacion-neurodiversidad-tips-para-educar-en-la-diversidad
CATEGORIES:Eventos Generales
END:VEVENT
END:VCALENDAR