BEGIN:VCALENDAR
VERSION:2.0
PRODID:-//VOCAL DESIGN TECHNIQUE ® - ECPv6.15.20//NONSGML v1.0//EN
CALSCALE:GREGORIAN
METHOD:PUBLISH
X-ORIGINAL-URL:https://vocaldesigntechnique.es
X-WR-CALDESC:Eventos para VOCAL DESIGN TECHNIQUE ®
REFRESH-INTERVAL;VALUE=DURATION:PT1H
X-Robots-Tag:noindex
X-PUBLISHED-TTL:PT1H
BEGIN:VTIMEZONE
TZID:Europe/Madrid
BEGIN:DAYLIGHT
TZOFFSETFROM:+0100
TZOFFSETTO:+0200
TZNAME:CEST
DTSTART:20230326T010000
END:DAYLIGHT
BEGIN:STANDARD
TZOFFSETFROM:+0200
TZOFFSETTO:+0100
TZNAME:CET
DTSTART:20231029T010000
END:STANDARD
BEGIN:DAYLIGHT
TZOFFSETFROM:+0100
TZOFFSETTO:+0200
TZNAME:CEST
DTSTART:20240331T010000
END:DAYLIGHT
BEGIN:STANDARD
TZOFFSETFROM:+0200
TZOFFSETTO:+0100
TZNAME:CET
DTSTART:20241027T010000
END:STANDARD
BEGIN:DAYLIGHT
TZOFFSETFROM:+0100
TZOFFSETTO:+0200
TZNAME:CEST
DTSTART:20250330T010000
END:DAYLIGHT
BEGIN:STANDARD
TZOFFSETFROM:+0200
TZOFFSETTO:+0100
TZNAME:CET
DTSTART:20251026T010000
END:STANDARD
END:VTIMEZONE
BEGIN:VTIMEZONE
TZID:UTC
BEGIN:STANDARD
TZOFFSETFROM:+0000
TZOFFSETTO:+0000
TZNAME:UTC
DTSTART:20230101T000000
END:STANDARD
END:VTIMEZONE
BEGIN:VEVENT
DTSTART;TZID=Europe/Madrid:20241219T110000
DTEND;TZID=Europe/Madrid:20241219T120000
DTSTAMP:20260420T164423
CREATED:20240819T225202Z
LAST-MODIFIED:20240819T225202Z
UID:2920-1734606000-1734609600@vocaldesigntechnique.es
SUMMARY:Formación con Virginia Moreno
DESCRIPTION:
URL:https://vocaldesigntechnique.es/event/formacion-con-virginia-moreno-3
LOCATION:Online\, España
CATEGORIES:Eventos Generales
END:VEVENT
BEGIN:VEVENT
DTSTART;TZID=Europe/Madrid:20241121T110000
DTEND;TZID=Europe/Madrid:20241121T120000
DTSTAMP:20260420T164423
CREATED:20240819T224829Z
LAST-MODIFIED:20240819T225748Z
UID:2918-1732186800-1732190400@vocaldesigntechnique.es
SUMMARY:Formación con Virginia Moreno
DESCRIPTION:
URL:https://vocaldesigntechnique.es/event/formacion-con-virginia-moreno-2
LOCATION:Online\, España
CATEGORIES:Eventos Generales
END:VEVENT
BEGIN:VEVENT
DTSTART;TZID=Europe/Madrid:20241024T110000
DTEND;TZID=Europe/Madrid:20241024T120000
DTSTAMP:20260420T164423
CREATED:20240819T224351Z
LAST-MODIFIED:20240819T225603Z
UID:2916-1729767600-1729771200@vocaldesigntechnique.es
SUMMARY:Formación con Virginia Moreno
DESCRIPTION:
URL:https://vocaldesigntechnique.es/event/formacion-con-virginia-moreno
LOCATION:Online\, España
END:VEVENT
BEGIN:VEVENT
DTSTART;TZID=UTC:20241008T110000
DTEND;TZID=UTC:20241008T130000
DTSTAMP:20260420T164423
CREATED:20240918T114259Z
LAST-MODIFIED:20240918T114259Z
UID:2937-1728385200-1728392400@vocaldesigntechnique.es
SUMMARY:Comienzo del curso
DESCRIPTION:
URL:https://vocaldesigntechnique.es/event/comienzo-del-curso
END:VEVENT
BEGIN:VEVENT
DTSTART;VALUE=DATE:20240927
DTEND;VALUE=DATE:20240928
DTSTAMP:20260420T164423
CREATED:20240820T061150Z
LAST-MODIFIED:20240918T081332Z
UID:2925-1727395200-1727481599@vocaldesigntechnique.es
SUMMARY:Evaluación escrita Nivel I
DESCRIPTION:Esta evaluación es para que revises las dudas que puedas tener sobre los temas que hemos visto hasta ahora. Repasa los temas del 1 al 32 del plan de estudios que tienes en la carpeta del Drive que se llama Material 26 – 30. Esta evaluación escrita del Nivel I durará dos horas y media\, puedess hacerla a cualquier hora del día. Debes escribir al WhatsApp de Vocal Design Institute para que te envíe el enlace\, en cuanto te lo envíe empezará a correr el tiempo. Cualquier consulta no dudes en preguntar.
URL:https://vocaldesigntechnique.es/event/evaluacion-escrita-nivel-i
LOCATION:Online\, España
CATEGORIES:Nivel I
END:VEVENT
BEGIN:VEVENT
DTSTART;TZID=Europe/Madrid:20240926T110000
DTEND;TZID=Europe/Madrid:20240926T120000
DTSTAMP:20260420T164423
CREATED:20240819T223045Z
LAST-MODIFIED:20240819T225338Z
UID:2914-1727348400-1727352000@vocaldesigntechnique.es
SUMMARY:Formación Virginia Moreno
DESCRIPTION:
URL:https://vocaldesigntechnique.es/event/formacion-virginia-moreno
LOCATION:Online\, España
CATEGORIES:Eventos Generales
END:VEVENT
BEGIN:VEVENT
DTSTART;TZID=UTC:20240524T080000
DTEND;TZID=UTC:20240524T170000
DTSTAMP:20260420T164423
CREATED:20240416T215843Z
LAST-MODIFIED:20240416T220120Z
UID:2750-1716537600-1716570000@vocaldesigntechnique.es
SUMMARY:Karaoke Nights VDT
DESCRIPTION:
URL:https://vocaldesigntechnique.es/event/karaoke-nights-vdt-2
CATEGORIES:Eventos Generales
END:VEVENT
BEGIN:VEVENT
DTSTART;TZID=UTC:20240419T080000
DTEND;TZID=UTC:20240419T113000
DTSTAMP:20260420T164423
CREATED:20240416T215724Z
LAST-MODIFIED:20240416T220203Z
UID:2748-1713513600-1713526200@vocaldesigntechnique.es
SUMMARY:Formación Salud Vocal por Virginia Moreno Benavente
DESCRIPTION:
URL:https://vocaldesigntechnique.es/event/formacion-salud-vocal-por-virginia-moreno-benavente
LOCATION:Online\, España
CATEGORIES:Eventos Generales
END:VEVENT
BEGIN:VEVENT
DTSTART;TZID=UTC:20240329T190000
DTEND;TZID=UTC:20240329T230000
DTSTAMP:20260420T164423
CREATED:20240228T202550Z
LAST-MODIFIED:20240228T202550Z
UID:2703-1711738800-1711753200@vocaldesigntechnique.es
SUMMARY:Karaoke Nights VDT
DESCRIPTION:
URL:https://vocaldesigntechnique.es/event/karaoke-nights-vdt
CATEGORIES:Eventos Generales
ORGANIZER;CN="Shadi Sparkling":MAILTO:vocaldesigntechnique@gmail.com
END:VEVENT
BEGIN:VEVENT
DTSTART;TZID=UTC:20240328T120000
DTEND;TZID=UTC:20240328T130000
DTSTAMP:20260420T164423
CREATED:20240305T133312Z
LAST-MODIFIED:20240305T133312Z
UID:2712-1711627200-1711630800@vocaldesigntechnique.es
SUMMARY:Coaching conjunto
DESCRIPTION:
URL:https://vocaldesigntechnique.es/event/coaching-conjunto
LOCATION:Online\, España
CATEGORIES:Eventos Generales
END:VEVENT
BEGIN:VEVENT
DTSTART;TZID=UTC:20240326T110000
DTEND;TZID=UTC:20240326T120000
DTSTAMP:20260420T164423
CREATED:20240305T132856Z
LAST-MODIFIED:20240305T133854Z
UID:2706-1711450800-1711454400@vocaldesigntechnique.es
SUMMARY:Formación Pedagogía Vocal y Hojas de práctica con Shadí Sparkling
DESCRIPTION:
URL:https://vocaldesigntechnique.es/event/formacion-pedagogia-vocal-y-hojas-de-practica-conshadi-sparkling
LOCATION:Online\, España
CATEGORIES:Eventos Generales
ORGANIZER;CN="Shadi Sparkling":MAILTO:vocaldesigntechnique@gmail.com
END:VEVENT
BEGIN:VEVENT
DTSTART;TZID=UTC:20240315T100000
DTEND;TZID=UTC:20240315T120000
DTSTAMP:20260420T164423
CREATED:20240228T182503Z
LAST-MODIFIED:20240305T133719Z
UID:2692-1710496800-1710504000@vocaldesigntechnique.es
SUMMARY:Formación marketing con Dominique Alexia
DESCRIPTION:
URL:https://vocaldesigntechnique.es/event/formacion-marketing-a-las-1000-el-15-de-marzo%f0%9f%8e%99%ef%b8%8f
LOCATION:Online\, España
CATEGORIES:Eventos Generales
ATTACH;FMTTYPE=image/jpeg:https://vocaldesigntechnique.es/wp-content/uploads/2023/05/VOCAL-DESING-TECHNIQUE-generico-RGB-e1683796576703.jpg
END:VEVENT
BEGIN:VEVENT
DTSTART;TZID=UTC:20240314T120000
DTEND;TZID=UTC:20240314T130000
DTSTAMP:20260420T164423
CREATED:20240305T133052Z
LAST-MODIFIED:20240305T133214Z
UID:2709-1710417600-1710421200@vocaldesigntechnique.es
SUMMARY:Resolución de dudas con Virginia Moreno Benavente
DESCRIPTION:
URL:https://vocaldesigntechnique.es/event/resolucion-de-dudas-con-virginia-moreno-benavente
LOCATION:Online\, España
CATEGORIES:Eventos Generales
END:VEVENT
END:VCALENDAR